BEGIN:VCALENDAR
VERSION:2.0
PRODID:-//Plone.org//NONSGML plone.app.event//EN
X-WR-TIMEZONE:Europe/Warsaw
BEGIN:VEVENT
SUMMARY:Prace serwisowe w serwerowni 3.11 D
DTSTART;TZID=Europe/Warsaw;VALUE=DATE-TIME:20220628T120000
DTEND;TZID=Europe/Warsaw;VALUE=DATE-TIME:20220628T180000
DTSTAMP;VALUE=DATE-TIME:20260420T122136Z
UID:7137a90be8b449979badb844390a388b@127.0.0.1:6969
CREATED;VALUE=DATE-TIME:20220602T134330Z
LAST-MODIFIED;VALUE=DATE-TIME:20220606T092856Z
LOCATION:3.11/3.12D
URL:https://achilles.tu.kielce.pl/portal/Members/3eb42f9454de45d9ae906db6b
 0e6c922/serwerownie/prace-serwisowe-w-serwerowni-3-11-d
END:VEVENT
BEGIN:VTIMEZONE
TZID:Europe/Warsaw
X-LIC-LOCATION:Europe/Warsaw
BEGIN:DAYLIGHT
DTSTART;VALUE=DATE-TIME:20220327T030000
TZNAME:CEST
TZOFFSETFROM:+0100
TZOFFSETTO:+0200
END:DAYLIGHT
END:VTIMEZONE
END:VCALENDAR
