BEGIN:VCALENDAR
VERSION:2.0
PRODID:-//Plone.org//NONSGML plone.app.event//EN
X-WR-TIMEZONE:Europe/Warsaw
BEGIN:VEVENT
SUMMARY:II Termin Zaliczenia - Podstawy Grafiki Komputerowej - Sala 3.10D
DTSTART;TZID=Europe/Warsaw;VALUE=DATE-TIME:20240624T140000
DTEND;TZID=Europe/Warsaw;VALUE=DATE-TIME:20240624T150000
DTSTAMP;VALUE=DATE-TIME:20260422T005808Z
UID:f61bf7e985294137b3adf950c302da10@127.0.0.1:6969
CREATED;VALUE=DATE-TIME:20240617T153957Z
LAST-MODIFIED;VALUE=DATE-TIME:20240617T154007Z
LOCATION:3.10
URL:https://achilles.tu.kielce.pl/portal/Members/3e5328098c8c4be996a831824
 4a1d4ff/wydarzenia/ii-termin-zaliczenia-podstawy-grafiki-komputerowej-sala
 -3.10d
END:VEVENT
BEGIN:VTIMEZONE
TZID:Europe/Warsaw
X-LIC-LOCATION:Europe/Warsaw
BEGIN:DAYLIGHT
DTSTART;VALUE=DATE-TIME:20240331T030000
TZNAME:CEST
TZOFFSETFROM:+0100
TZOFFSETTO:+0200
END:DAYLIGHT
END:VTIMEZONE
END:VCALENDAR
