BEGIN:VCALENDAR
VERSION:2.0
PRODID:-//Plone.org//NONSGML plone.app.event//EN
X-WR-TIMEZONE:Europe/Warsaw
BEGIN:VEVENT
SUMMARY:II Termin z przedmiotów Rzeczywistość Wirtualna i Rozszerzona
DTSTART;TZID=Europe/Warsaw;VALUE=DATE-TIME:20260204T150000
DTEND;TZID=Europe/Warsaw;VALUE=DATE-TIME:20260204T170000
DTSTAMP;VALUE=DATE-TIME:20260426T020729Z
UID:1eb20ea86c4c4bd08ac7de067cc37886@127.0.0.1:6969
CREATED;VALUE=DATE-TIME:20260203T181945Z
DESCRIPTION:II Termin zaliczenia z Rzeczywistości Wirtualnej i Rozszerzon
 ej w CENWIS 1.06\nKolokwium: 15:00\nLaboratorium: 16:00\nProjekt: 16:30
LAST-MODIFIED;VALUE=DATE-TIME:20260203T182001Z
LOCATION:CENWIS 1.06
URL:https://achilles.tu.kielce.pl/portal/Members/3e5328098c8c4be996a831824
 4a1d4ff/wydarzenia/ii-termin-z-przedmiotow-rzeczywistosc-wirtualna-i-rozsz
 erzona
END:VEVENT
BEGIN:VTIMEZONE
TZID:Europe/Warsaw
X-LIC-LOCATION:Europe/Warsaw
BEGIN:STANDARD
DTSTART;VALUE=DATE-TIME:20251026T020000
TZNAME:CET
TZOFFSETFROM:+0200
TZOFFSETTO:+0100
END:STANDARD
END:VTIMEZONE
END:VCALENDAR
