BEGIN:VCALENDAR
VERSION:2.0
PRODID:-//Plone.org//NONSGML plone.app.event//EN
X-WR-TIMEZONE:Europe/Warsaw
BEGIN:VEVENT
SUMMARY:III termin zaliczenia MPJN (studia niestacjonarne)
DTSTART;TZID=Europe/Warsaw;VALUE=DATE-TIME:20260214T110500
DTEND;TZID=Europe/Warsaw;VALUE=DATE-TIME:20260214T120500
DTSTAMP;VALUE=DATE-TIME:20260421T123431Z
UID:693328a67ea04c2481bd117ca6a81ab9@127.0.0.1:6969
CREATED;VALUE=DATE-TIME:20260110T103915Z
LAST-MODIFIED;VALUE=DATE-TIME:20260208T103611Z
LOCATION:310D
URL:https://achilles.tu.kielce.pl/portal/Members/361b21c538af45929c9a78f34
 7a53835/iii-termin-zaliczenia-mpjn-studia-niestacjonarne
END:VEVENT
BEGIN:VTIMEZONE
TZID:Europe/Warsaw
X-LIC-LOCATION:Europe/Warsaw
BEGIN:STANDARD
DTSTART;VALUE=DATE-TIME:20251026T020000
TZNAME:CET
TZOFFSETFROM:+0200
TZOFFSETTO:+0100
END:STANDARD
END:VTIMEZONE
END:VCALENDAR
