BEGIN:VCALENDAR
VERSION:2.0
PRODID:-//Plone.org//NONSGML plone.app.event//EN
X-WR-TIMEZONE:Europe/Warsaw
BEGIN:VEVENT
SUMMARY:Poprawa Laboratorium PP2
DTSTART;TZID=Europe/Warsaw;VALUE=DATE-TIME:20240705T150000
DTEND;TZID=Europe/Warsaw;VALUE=DATE-TIME:20240705T170000
DTSTAMP;VALUE=DATE-TIME:20260424T171224Z
UID:ae307aa020e94bd8bdf281683713254b@127.0.0.1:6969
ATTENDEE;CN="Grupy 1ID12A, 1ID12B, 1ID13A, 1ID13B, 1ID14A, 1ID14B, 1ID16A 
 i 1ID16B";ROLE=REQ-PARTICIPANT:Grupy 1ID12A, 1ID12B, 1ID13A, 1ID13B, 1ID14
 A, 1ID14B, 1ID16A i 1ID16B
CREATED;VALUE=DATE-TIME:20240625T203947Z
DESCRIPTION:Zapraszam studentów z moich grup laboratoryjnych\, którzy ni
 e zaliczyli przedmiotu w pierwszym terminie na termin poprawkowy.
LAST-MODIFIED;VALUE=DATE-TIME:20240625T204319Z
LOCATION:sala 3.19D
URL:https://achilles.tu.kielce.pl/portal/Members/332bd2d158a24964b2b98a7fc
 2879842/poprawa-laboratorium-pp2
END:VEVENT
BEGIN:VTIMEZONE
TZID:Europe/Warsaw
X-LIC-LOCATION:Europe/Warsaw
BEGIN:DAYLIGHT
DTSTART;VALUE=DATE-TIME:20240331T030000
TZNAME:CEST
TZOFFSETFROM:+0100
TZOFFSETTO:+0200
END:DAYLIGHT
END:VTIMEZONE
END:VCALENDAR
