BEGIN:VCALENDAR
VERSION:2.0
PRODID:-//Plone.org//NONSGML plone.app.event//EN
X-WR-TIMEZONE:Europe/Warsaw
BEGIN:VEVENT
SUMMARY:Pierwszy termin zaliczenia wykładu z przedmiotu Podstawy Programo
 wania gier.
DTSTART;TZID=Europe/Warsaw;VALUE=DATE-TIME:20250203T160000
DTSTAMP;VALUE=DATE-TIME:20260419T142859Z
UID:6829ccd23ea64dc0b6a975cee9a3c0c2@127.0.0.1:6969
CREATED;VALUE=DATE-TIME:20250131T191542Z
LAST-MODIFIED;VALUE=DATE-TIME:20250201T154521Z
LOCATION:3.20 D
URL:https://achilles.tu.kielce.pl/portal/Members/229fde6b11b34e44ae1392eca
 563cd1b/pierwszy-termin-zaliczenia-wykladu-z-przedmiotu-podstawy-programow
 ania-gier
END:VEVENT
BEGIN:VTIMEZONE
TZID:Europe/Warsaw
X-LIC-LOCATION:Europe/Warsaw
BEGIN:STANDARD
DTSTART;VALUE=DATE-TIME:20241027T020000
TZNAME:CET
TZOFFSETFROM:+0200
TZOFFSETTO:+0100
END:STANDARD
END:VTIMEZONE
END:VCALENDAR
