BEGIN:VCALENDAR
VERSION:2.0
PRODID:-//Plone.org//NONSGML plone.app.event//EN
X-WR-TIMEZONE:Europe/Warsaw
BEGIN:VEVENT
SUMMARY:Rezerwacja sali 3.12 D\; data: 01.09.2022\; w godzinach: 08.00-13.
 00.
DTSTART;TZID=Europe/Warsaw;VALUE=DATE-TIME:20220901T080000
DTEND;TZID=Europe/Warsaw;VALUE=DATE-TIME:20220901T130000
DTSTAMP;VALUE=DATE-TIME:20260424T070057Z
UID:7bff0cf46ed04e48959527094f7efd24@127.0.0.1:6969
CREATED;VALUE=DATE-TIME:20220520T103141Z
LAST-MODIFIED;VALUE=DATE-TIME:20220520T103146Z
LOCATION:3.12 D
URL:https://achilles.tu.kielce.pl/portal/Members/0780e5909eda4ab3a9ed88a53
 44ff6ce/rezerwacja-sali-3-12-d-data-01-09-2022-w-godzinach-08-00-13-00
END:VEVENT
BEGIN:VTIMEZONE
TZID:Europe/Warsaw
X-LIC-LOCATION:Europe/Warsaw
BEGIN:DAYLIGHT
DTSTART;VALUE=DATE-TIME:20220327T030000
TZNAME:CEST
TZOFFSETFROM:+0100
TZOFFSETTO:+0200
END:DAYLIGHT
END:VTIMEZONE
END:VCALENDAR
