BEGIN:VCALENDAR
VERSION:2.0
PRODID:-//Plone.org//NONSGML plone.app.event//EN
X-WR-TIMEZONE:Europe/Warsaw
BEGIN:VEVENT
SUMMARY:II termin poprawkowy z Programowania w języku C 2
DTSTART;TZID=Europe/Warsaw;VALUE=DATE-TIME:20190213T100000
DTEND;TZID=Europe/Warsaw;VALUE=DATE-TIME:20190213T110000
DTSTAMP;VALUE=DATE-TIME:20260421T123326Z
UID:72610c47355b432695f5910634a23d4e@127.0.0.1:6969
CREATED;VALUE=DATE-TIME:20190111T143302Z
DESCRIPTION:Dotyczy grup 2id12A oraz 2id12B
LAST-MODIFIED;VALUE=DATE-TIME:20190111T143546Z
LOCATION:Sala 3.12 D
URL:https://achilles.tu.kielce.pl/portal/Members/0780e5909eda4ab3a9ed88a53
 44ff6ce/ii-termin-poprawkowy-z-programowania-w-jezyku-c-2-1
END:VEVENT
BEGIN:VTIMEZONE
TZID:Europe/Warsaw
X-LIC-LOCATION:Europe/Warsaw
BEGIN:STANDARD
DTSTART;VALUE=DATE-TIME:20181028T020000
TZNAME:CET
TZOFFSETFROM:+0200
TZOFFSETTO:+0100
END:STANDARD
END:VTIMEZONE
END:VCALENDAR
