BEGIN:VCALENDAR
VERSION:2.0
PRODID:-//Plone.org//NONSGML plone.app.event//EN
X-WR-TIMEZONE:Europe/Warsaw
BEGIN:VEVENT
SUMMARY:I termin poprawkowy z Programowania w języku C 2
DTSTART;TZID=Europe/Warsaw;VALUE=DATE-TIME:20190201T150000
DTEND;TZID=Europe/Warsaw;VALUE=DATE-TIME:20190201T160000
DTSTAMP;VALUE=DATE-TIME:20260423T143705Z
UID:03143071a79842e98551118ce0703208@127.0.0.1:6969
CREATED;VALUE=DATE-TIME:20190111T142945Z
DESCRIPTION:Dotyczy grup 2id12A oraz 2id12B
LAST-MODIFIED;VALUE=DATE-TIME:20190111T143528Z
LOCATION:Sala 3.12 D
URL:https://achilles.tu.kielce.pl/portal/Members/0780e5909eda4ab3a9ed88a53
 44ff6ce/i-termin-poprawkowy-z-programowania-w-jezyku-c-2-1
END:VEVENT
BEGIN:VTIMEZONE
TZID:Europe/Warsaw
X-LIC-LOCATION:Europe/Warsaw
BEGIN:STANDARD
DTSTART;VALUE=DATE-TIME:20181028T020000
TZNAME:CET
TZOFFSETFROM:+0200
TZOFFSETTO:+0100
END:STANDARD
END:VTIMEZONE
END:VCALENDAR
