BEGIN:VCALENDAR
VERSION:2.0
PRODID:-//Plone.org//NONSGML plone.app.event//EN
X-WR-TIMEZONE:Europe/Warsaw
BEGIN:VEVENT
SUMMARY:I termin poprawkowy z Programowania Obiektowego 1
DTSTART;TZID=Europe/Warsaw;VALUE=DATE-TIME:20230705T123000
DTEND;TZID=Europe/Warsaw;VALUE=DATE-TIME:20230705T140000
DTSTAMP;VALUE=DATE-TIME:20260424T014520Z
UID:127e41b3ff5d4a42a8fc4c7d27164273@127.0.0.1:6969
CREATED;VALUE=DATE-TIME:20230617T123518Z
DESCRIPTION:Sala 3.06 D.
LAST-MODIFIED;VALUE=DATE-TIME:20230617T123618Z
LOCATION:Rezerwacja sali 3.06 D (05.07.2023)
URL:https://achilles.tu.kielce.pl/portal/Members/0780e5909eda4ab3a9ed88a53
 44ff6ce/i-termin-poprawkowy-z-programowania-obiektowego-1
END:VEVENT
BEGIN:VTIMEZONE
TZID:Europe/Warsaw
X-LIC-LOCATION:Europe/Warsaw
BEGIN:DAYLIGHT
DTSTART;VALUE=DATE-TIME:20230326T030000
TZNAME:CEST
TZOFFSETFROM:+0100
TZOFFSETTO:+0200
END:DAYLIGHT
END:VTIMEZONE
END:VCALENDAR
