BEGIN:VCALENDAR
VERSION:2.0
PRODID:-//Plone.org//NONSGML plone.app.event//EN
X-WR-TIMEZONE:Europe/Warsaw
BEGIN:VEVENT
SUMMARY:2 września 2024: Rezerwacja sali 2.28 DH
DTSTART;TZID=Europe/Warsaw;VALUE=DATE-TIME:20240902T090000
DTEND;TZID=Europe/Warsaw;VALUE=DATE-TIME:20240902T160000
DTSTAMP;VALUE=DATE-TIME:20260424T070057Z
UID:1fad2e68b666459db0a231922b0e2b92@127.0.0.1:6969
CREATED;VALUE=DATE-TIME:20240507T142430Z
DESCRIPTION:Rezerwacja sali 2.28 DH w godzinach 9.00-16.00 (II zaliczenia 
 poprawkowe z Programowania Obiektowego 1)
LAST-MODIFIED;VALUE=DATE-TIME:20240507T142939Z
LOCATION:2.28 DH
URL:https://achilles.tu.kielce.pl/portal/Members/0780e5909eda4ab3a9ed88a53
 44ff6ce/2-wrzesnia-2024-rezerwacja-sali-2-28-dh
END:VEVENT
BEGIN:VTIMEZONE
TZID:Europe/Warsaw
X-LIC-LOCATION:Europe/Warsaw
BEGIN:DAYLIGHT
DTSTART;VALUE=DATE-TIME:20240331T030000
TZNAME:CEST
TZOFFSETFROM:+0100
TZOFFSETTO:+0200
END:DAYLIGHT
END:VTIMEZONE
END:VCALENDAR
